BEGIN:VCALENDAR
VERSION:2.0
PRODID:-//https://cfaecentro-oeste.com///NONSGML kigkonsult.se iCalcreator 2.10.15//
METHOD:PUBLISH
BEGIN:VEVENT
UID:20260419T135202UTC-8907eZfgXj@https://cfaecentro-oeste.com/
DTSTAMP:20260419T135202Z
DESCRIPTION:\nXVIII JORNADAS HISTÓRICAS DE SEIA\nO Tempo e as Distâncias: t
 udo tão perto\, tudo tão longe\nDecorre de 12 a 14 de novembro\, na Casa M
 unicipal da Cultura de Seia a 18ª edição das Jornadas Históricas\, este an
 o subordinadas ao tema “O Tempo e as Distâncias: tudo tão perto\, tudo tão
  longe”. Organizadas pelo município de Seia através do Arquivo Municipal\,
  as jornadas contam com um leque de reputados conferencistas como se pode 
 ver no programa. Decorrerão igualmente atividades paralelas\, abertas a to
 do o público interessado.\nPrograma...\n&nbsp\;\n{slider=Lista de Formando
 s Inscritos|blue}\n{module Formandos Inscritos}\n&nbsp\;\n{slider=Lista de
  Formandos Não Admitidos|red}\n{module MOD_RSEVENTSPRO_Naoadmitidos}\n&nbs
 p\;\n{slider=Lista Formandos Admitidos|green}\n{module MOD_RSEVENTSPRO_adm
 itidos}\n{/sliders} https://cfaecentro-oeste.com/index.php/pt/component/rs
 eventspro/acontecimento/367-39nf2015-o-tempo-e-as-distancias-tudo-tao-pert
 o-tudo-tao-longe?Itemid=392015
DTSTART:20151112T140000Z
DTEND:20160115T230000Z
LOCATION:Auditório da Casa Municipal da Cultura de Seia (Avenida Luís Vaz d
 e Camões\, 6270-484 Seia\, Portugal)
SUMMARY:39NF2015 - O Tempo e as Distâncias: tudo tão perto\, tudo tão longe
URL:https://cfaecentro-oeste.com/index.php/pt/component/rseventspro/acontec
 imento/367-39nf2015-o-tempo-e-as-distancias-tudo-tao-perto-tudo-tao-longe?
 Itemid=392015
END:VEVENT
END:VCALENDAR
