BEGIN:VCALENDAR
VERSION:2.0
PRODID:-//https://cfaecentro-oeste.com///NONSGML kigkonsult.se iCalcreator 2.10.15//
METHOD:PUBLISH
BEGIN:VEVENT
UID:20260421T104119UTC-9758UPuV0v@https://cfaecentro-oeste.com/
DTSTAMP:20260421T104119Z
DESCRIPTION:&nbsp\;\n\n&nbsp\;\n&nbsp\;\n\n{slider=Lista de Formandos Inscr
 itos|blue}\n{module Formandos Inscritos}\n&nbsp\;{slider=Lista de Formando
 s N&atilde\;o Admitidos|red}\n{module MOD_RSEVENTSPRO_Naoadmitidos}\n&nbsp
 \;{slider=Lista Formandos Admitidos|green}\n{module MOD_RSEVENTSPRO_admiti
 dos}\n{/sliders} https://cfaecentro-oeste.com/index.php/pt/component/rseve
 ntspro/acontecimento/491-05nf2018-tecnicas-base-da-ginastica-na-escola?Ite
 mid=6
DTSTART:20180518T170000Z
DTEND:20180518T210000Z
LOCATION:Escola Secundária Rafael Bordalo Pinheiro (Rua César Machado\, 250
 0 Caldas da Rainha\, Portugal)
SUMMARY:05NF2018 - Técnicas Base Da Ginástica Na Escola
URL:https://cfaecentro-oeste.com/index.php/pt/component/rseventspro/acontec
 imento/491-05nf2018-tecnicas-base-da-ginastica-na-escola?Itemid=6
END:VEVENT
END:VCALENDAR
