BEGIN:VCALENDAR
VERSION:2.0
PRODID:-//https://cfaecentro-oeste.com///NONSGML kigkonsult.se iCalcreator 2.10.15//
METHOD:PUBLISH
BEGIN:VEVENT
UID:20260421T190535UTC-6307l1J4EW@https://cfaecentro-oeste.com/
DTSTAMP:20260421T190535Z
DESCRIPTION: https://cfaecentro-oeste.com/index.php/pt/component/rseventspr
 o/acontecimento/508-06nf2019-arte-e-educacao?Itemid=412015
DTSTART:20190508T160000Z
DTEND:20190508T190000Z
LOCATION:Escola Básica Integrada Santo Onofre (Rua Francisco Franco 28A\, 2
 500 Caldas da Rainha\, Portugal)
SUMMARY:06NF2019 - Arte e Educação
URL:https://cfaecentro-oeste.com/index.php/pt/component/rseventspro/acontec
 imento/508-06nf2019-arte-e-educacao?Itemid=412015
END:VEVENT
END:VCALENDAR
