BEGIN:VCALENDAR
VERSION:2.0
PRODID:-//https://cfaecentro-oeste.com///NONSGML kigkonsult.se iCalcreator 2.10.15//
METHOD:PUBLISH
BEGIN:VEVENT
UID:20260421T135135UTC-4382TtNOuV@https://cfaecentro-oeste.com/
DTSTAMP:20260421T135135Z
DESCRIPTION:&nbsp\;Mais informações na plataforma de formação do CFAE\, em&
 nbsp\;https://centro-oeste.cfae.pt/&nbsp\;-&nbsp\;&nbsp\;Plataforma de For
 mação\n\n\n\n\n\n\n https://cfaecentro-oeste.com/index.php/pt/component/rs
 eventspro/acontecimento/735-220-01-aprendizagens-essenciais-de-matematica-
 a-para-o-ensino-secundario?Itemid=101
DTSTART:20231003T173000Z
DTEND:20231003T203000Z
LOCATION:Escola Secundária Rafael Bordalo Pinheiro (Rua César Machado\, 250
 0 Caldas da Rainha\, Portugal)
SUMMARY:220-01 - APRENDIZAGENS ESSENCIAIS DE MATEMÁTICA A PARA O ENSINO SEC
 UNDÁRIO
URL:https://cfaecentro-oeste.com/index.php/pt/component/rseventspro/acontec
 imento/735-220-01-aprendizagens-essenciais-de-matematica-a-para-o-ensino-s
 ecundario?Itemid=101
END:VEVENT
END:VCALENDAR
