BEGIN:VCALENDAR
VERSION:2.0
PRODID:-//https://cfaecentro-oeste.com///NONSGML kigkonsult.se iCalcreator 2.10.15//
METHOD:PUBLISH
BEGIN:VEVENT
UID:20260420T061040UTC-78595UgIKW@https://cfaecentro-oeste.com/
DTSTAMP:20260420T061040Z
DESCRIPTION:&nbsp\;\n https://cfaecentro-oeste.com/index.php/pt/contactos/f
 ormacao/acontecimento/314-empreendedorismo-nas-escolas
DTSTART:20141029T143000Z
DTEND:20141029T173000Z
LOCATION:Auditório da Câmara Municipal do Cadaval (Câmara Municipal de Cada
 val\, 2550 Cadaval\, Portugal)
SUMMARY:Empreendedorismo nas Escolas
URL:https://cfaecentro-oeste.com/index.php/pt/contactos/formacao/acontecime
 nto/314-empreendedorismo-nas-escolas
END:VEVENT
END:VCALENDAR
