BEGIN:VCALENDAR
VERSION:2.0
PRODID:-//https://cfaecentro-oeste.com///NONSGML kigkonsult.se iCalcreator 2.10.15//
METHOD:PUBLISH
BEGIN:VEVENT
UID:20260420T012107UTC-8088txcg3v@https://cfaecentro-oeste.com/
DTSTAMP:20260420T012107Z
DESCRIPTION:\n&nbsp\;\n&nbsp\;\n&nbsp\;\n{slider=Lista de Formandos Inscrit
 os|blue}\n{module Formandos Inscritos}\n&nbsp\;{slider=Lista de Formandos 
 N&atilde\;o Admitidos|red}\n{module MOD_RSEVENTSPRO_Naoadmitidos}\n&nbsp\;
 {slider=Lista Formandos Admitidos|green}\n{module MOD_RSEVENTSPRO_admitido
 s}\n{/sliders} https://cfaecentro-oeste.com/index.php/pt/contactos/formaca
 o/acontecimento/487-03nf2018-tecnicas-base-da-ginastica-na-escola
DTSTART:20181012T170000Z
DTEND:20181012T210000Z
LOCATION:Escola Secundária Rafael Bordalo Pinheiro (Rua César Machado\, 250
 0 Caldas da Rainha\, Portugal)
SUMMARY:03NF2018 - Técnicas Base Da Ginástica Na Escola
URL:https://cfaecentro-oeste.com/index.php/pt/contactos/formacao/acontecime
 nto/487-03nf2018-tecnicas-base-da-ginastica-na-escola
END:VEVENT
END:VCALENDAR
