BEGIN:VCALENDAR
VERSION:2.0
PRODID:-//https://cfaecentro-oeste.com///NONSGML kigkonsult.se iCalcreator 2.10.15//
METHOD:PUBLISH
BEGIN:VEVENT
UID:20260419T223530UTC-5035AgN1Az@https://cfaecentro-oeste.com/
DTSTAMP:20260419T223530Z
DESCRIPTION:&nbsp\;\n&nbsp\;\n&nbsp\;\n{slider=Lista de Formandos Inscritos
 |blue}\n{module Formandos Inscritos}\n&nbsp\;{slider=Lista de Formandos N&
 atilde\;o Admitidos|red}\n{module MOD_RSEVENTSPRO_Naoadmitidos}\n&nbsp\;{s
 lider=Lista Formandos Admitidos|green}\n{module MOD_RSEVENTSPRO_admitidos}
 \n{/sliders} https://cfaecentro-oeste.com/index.php/pt/contactos/formacao/
 acontecimento/488-032a2018-cidadania-ativa-para-uma-educacao-inclusiva-dos
 -migrantes-e-dos-refugiados
DTSTART:20180505T080000Z
DTEND:20180505T120000Z
LOCATION:Fundação Calouste Gulbenkian (Av. de Berna\, 45A  \, 1067-001 \, L
 isboa \, Lisboa \, Portugal)
SUMMARY:032A2018 - Cidadania ativa para uma educação inclusiva dos Migrante
 s e dos Refugiados
URL:https://cfaecentro-oeste.com/index.php/pt/contactos/formacao/acontecime
 nto/488-032a2018-cidadania-ativa-para-uma-educacao-inclusiva-dos-migrantes
 -e-dos-refugiados
END:VEVENT
END:VCALENDAR
