BEGIN:VCALENDAR
VERSION:2.0
PRODID:-//https://cfaecentro-oeste.com///NONSGML kigkonsult.se iCalcreator 2.10.15//
METHOD:PUBLISH
BEGIN:VEVENT
UID:20260420T003034UTC-8863lExtgt@https://cfaecentro-oeste.com/
DTSTAMP:20260420T003034Z
DESCRIPTION:Mais informações na plataforma de formação do CFAE\, em&nbsp\;h
 ttps://centro-oeste.cfae.pt/&nbsp\;-&nbsp\;&nbsp\;Plataforma de Formação h
 ttps://cfaecentro-oeste.com/index.php/pt/contactos/formacao/acontecimento/
 721-170-02-criacao-de-ambientes-de-aprendizagem-inclusivos-e-inovadores
DTSTART:20230920T170000Z
DTEND:20230920T203000Z
LOCATION:Agrupamento de Escolas da Atouguia da Baleia (R Vítor Baltazar  \,
  2525-079 \, Peniche \, Portugal)
SUMMARY:170-02 - Criação de ambientes de aprendizagem inclusivos e inovador
 es
URL:https://cfaecentro-oeste.com/index.php/pt/contactos/formacao/acontecime
 nto/721-170-02-criacao-de-ambientes-de-aprendizagem-inclusivos-e-inovadore
 s
END:VEVENT
END:VCALENDAR
