BEGIN:VCALENDAR
VERSION:2.0
PRODID:-//https://cfaecentro-oeste.com///NONSGML kigkonsult.se iCalcreator 2.10.15//
METHOD:PUBLISH
BEGIN:VEVENT
UID:20260420T051116UTC-29818zNRnm@https://cfaecentro-oeste.com/
DTSTAMP:20260420T051116Z
DESCRIPTION:\n\nN.ºDataInícioTérminoTipoSala / URL\n\n\n26/09/2023\n18:00\n
 21:00\nPresencial\n28\n\n\n\nAgradecemos que para esta ação de formação\,&
 nbsp\;leve&nbsp\;o seu computador portátil/Tablet\, com ligação à internet
 .\nMais informações na plataforma de formação do CFAE\, em&nbsp\;https://c
 entro-oeste.cfae.pt/&nbsp\;-&nbsp\;&nbsp\;Plataforma de Formação https://c
 faecentro-oeste.com/index.php/pt/contactos/formacao/acontecimento/724-135-
 12-capacitacao-digital-de-docentes-nivel-1
DTSTART:20230926T170000Z
DTEND:20230926T203000Z
LOCATION:Agrupamento de Escolas da Atouguia da Baleia (R Vítor Baltazar  \,
  2525-079 \, Peniche \, Portugal)
SUMMARY:135-12 - CAPACITAÇÃO DIGITAL DE DOCENTES - NÍVEL 1
URL:https://cfaecentro-oeste.com/index.php/pt/contactos/formacao/acontecime
 nto/724-135-12-capacitacao-digital-de-docentes-nivel-1
END:VEVENT
END:VCALENDAR
