BEGIN:VCALENDAR
VERSION:2.0
PRODID:-//https://cfaecentro-oeste.com///NONSGML kigkonsult.se iCalcreator 2.10.15//
METHOD:PUBLISH
BEGIN:VEVENT
UID:20260420T051116UTC-5790Wd98Du@https://cfaecentro-oeste.com/
DTSTAMP:20260420T051116Z
DESCRIPTION:&nbsp\;\n\n\n\n\n\n\n https://cfaecentro-oeste.com/index.php/pt
 /contactos/formacao/acontecimento/728-226-01-o-futuro-e-hoje
DTSTART:20230927T160000Z
DTEND:20230927T190000Z
LOCATION:Agrupamento de Escolas Fernão do Pó (Av. Dr. Joaquim de Albuquerqu
 e 45\, 2540 Bombarral\, Portugal)
SUMMARY:226-01 - O Futuro é Hoje
URL:https://cfaecentro-oeste.com/index.php/pt/contactos/formacao/acontecime
 nto/728-226-01-o-futuro-e-hoje
END:VEVENT
END:VCALENDAR
