BEGIN:VCALENDAR
VERSION:2.0
PRODID:-//https://cfaecentro-oeste.com///NONSGML kigkonsult.se iCalcreator 2.10.15//
METHOD:PUBLISH
BEGIN:VEVENT
UID:20260420T001841UTC-4600UVBMFz@https://cfaecentro-oeste.com/
DTSTAMP:20260420T001841Z
DESCRIPTION:&nbsp\;\nMais informações na plataforma de formação do CFAE\, e
 m&nbsp\;https://centro-oeste.cfae.pt/&nbsp\;-&nbsp\;&nbsp\;Plataforma de F
 ormação\n\n\nN.ºDataInícioTérminoTipo\n\n\n1\n19/10/2023\n18:00\n21:00\nPr
 esencial\n\n2\n26/10/2023\n18:00\n21:00\nPresencial\n\n3\n02/11/2023\n18:0
 0\n21:00\nOnline síncrona\n\n4\n09/11/2023\n18:00\n21:00\nPresencial\n\n5
 \n16/11/2023\n18:00\n21:00\nOnline síncrona\n\n6\n20/11/2023\n18:00\n21:30
 \nOnline síncrona\n\n7\n23/11/2023\n18:00\n21:00\nPresencial\n\n8\n27/11/2
 023\n18:00\n21:30\nPresencial\n\n\n https://cfaecentro-oeste.com/index.php
 /pt/contactos/formacao/acontecimento/742-17905-para-uma-fundamentacao-e-me
 lhoria-das-praticas-de-avaliacao-pedagogica-projetos-de-intervencao-nos-do
 minios-do-ensino-e-da-avaliacao
DTSTART:20231019T170000Z
DTEND:20231019T200000Z
LOCATION:Escola Secundária Rafael Bordalo Pinheiro (Rua César Machado\, 250
 0 Caldas da Rainha\, Portugal)
SUMMARY:17905 - PARA UMA FUNDAMENTAÇÃO E MELHORIA DAS PRÁTICAS DE AVALIAÇÃO
  PEDAGÓGICA: PROJETOS DE INTERVENÇÃO NOS DOMÍNIOS DO ENSINO E DA AVALIAÇÃO
URL:https://cfaecentro-oeste.com/index.php/pt/contactos/formacao/acontecime
 nto/742-17905-para-uma-fundamentacao-e-melhoria-das-praticas-de-avaliacao-
 pedagogica-projetos-de-intervencao-nos-dominios-do-ensino-e-da-avaliacao
END:VEVENT
END:VCALENDAR
