BEGIN:VCALENDAR
VERSION:2.0
PRODID:-//https://cfaecentro-oeste.com///NONSGML kigkonsult.se iCalcreator 2.10.15//
METHOD:PUBLISH
BEGIN:VEVENT
UID:20260419T235149UTC-4588jaVVak@https://cfaecentro-oeste.com/
DTSTAMP:20260419T235149Z
DESCRIPTION:\n\n&nbsp\;\n{tab=Inscri&ccedil\;&atilde\;o|bue}\n\n\n\n\n\nN&u
 acute\;mero da A&ccedil\;&atilde\;o\n\n\n10NF2017\n\n\n\n\nFormadores resp
 ons&aacute\;veis\n\n\nCristina Pecante e F&aacute\;tima Neves\n\n\n\n\nCri
 t&eacute\;rios de sele&ccedil\;&atilde\;o\n\n\nOrdem de Inscri&ccedil\;&at
 ilde\;o&nbsp\;&nbsp\;&nbsp\;\n&nbsp\;\n\n\n\n\nPagamento\n\n\n20&euro\;/Po
 r Transfer&ecirc\;ncia para o NIB 0035 0183 00068510030 09 (obrigatoriedad
 e de envio\, do respectivo comprovativo atrav&eacute\;s do formul&aacute\;
 rio\, 'Comprovativo de Pagamento')\, na descri&ccedil\;&atilde\;o da trans
 ferencia deve colocar o n&uacute\;mero de inscri&ccedil\;&atilde\;o enviad
 o no email de comprovativo\; Por cheque (&agrave\; ordem do Agrupamento de
  Escolas Rafael Bordalo Pinheiro)\; Por numer&aacute\;rio no CFAE. Inscri&
 ccedil\;&atilde\;o online (obrigat&oacute\;ria)\, em &nbsp\;www.cfaecentro
 -oeste.pt.\n\n\n\n\nInscri&ccedil\;&otilde\;es\n\n\nOrdem de Inscri&ccedil
 \;&atilde\;o&nbsp\;&nbsp\;\n\n\n\n\nCalendariza&ccedil\;&atilde\;o/\nHor&a
 acute\;rio\n\n\nIn&iacute\;cio a 04-07-2017\, das 09:00h &agrave\;s 18:00h
 .\n\n\n\n\nLocal de realiza&ccedil\;&atilde\;o\n\n\nEscola Secundaria Rafa
 el Bordalo Pinheiro - Audit&oacute\;rio\n\n\n\n\n\n{tab=Ficha da a&ccedil\
 ;&atilde\;o|green}\n\n\n\n\n\n\nDestinat&aacute\;rios\n\n\nDestinat&aacute
 \;rios de acordo com o artigo 5&ordm\;\, do Regime Jur&iacute\;dico da For
 ma&ccedil\;&atilde\;o Continua de Professores: Educadores de Inf&acirc\;nc
 ia e Professores dos Ensinos B&aacute\;sico e Secund&aacute\;rio\nPara efe
 itos de aplicação do artigo 9º do Regime Jurídico da Formação Contínua de 
 Professores (dimensão cientifica e pedagógica):Sem destinat&aacute\;rios\n
 N&ordm\; de Formandos:\nM&iacute\;nimo: 20 - M&aacute\;ximo: 80\n\n\n\n\n
 \nDura&ccedil\;&atilde\;o e Cr&eacute\;ditos\n\n\nHoras Presenciais: 15 ho
 ras\nHoras de Trabalho Aut&oacute\;nomo: 0 Horas\nTotal de Cr&eacute\;dito
 s: 0\,6 Cr&eacute\;ditos\n\n\n\n\nRegisto de acredita&ccedil\;&atilde\;o\n
 \n\nCCPFC/ACC-92130/17 - Modalidade: Curso de Forma&ccedil\;&atilde\;o\n\n
 \n\n\n\nConte&uacute\;dos\n\n\n1. Apresenta&ccedil\;&atilde\;o da a&ccedil
 \;&atilde\;o de forma&ccedil\;&atilde\;o - 1 hora\;\n2. Sa&uacute\;de ment
 al e preven&ccedil\;&atilde\;o da viol&ecirc\;ncia - 2 horas\;\n3. Educa&c
 cedil\;&atilde\;o alimentar e atividade f&iacute\;sica - 2 horas\;\n4. Pre
 ven&ccedil\;&atilde\;o dos comportamentos aditivos e depend&ecirc\;ncias -
  2 horas\;\n5. Afetos e educa&ccedil\;&atilde\;o para uma sexualidade resp
 ons&aacute\;vel - 7 horas.\n6. Avalia&ccedil\;&atilde\;o da a&ccedil\;&ati
 lde\;o de forma&ccedil\;&atilde\;o - 1 hora.\n\n\n\n\nRaz&otilde\;es\n\n\n
 A Organiza&ccedil\;&atilde\;o Mundial de Sa&uacute\;de (OMS\, 1998) define
  Educa&ccedil\;&atilde\;o para a Sa&uacute\;de como &ldquo\;qualquer combi
 na&ccedil\;&atilde\;o de experi&ecirc\;ncias de aprendizagem que tenham po
 r objetivo ajudar os indiv&iacute\;duos e as comunidades a melhorar a sua 
 sa&uacute\;de\, atrav&eacute\;s do aumento dos conhecimentos ou influencia
 ndo as suas atitudes&rdquo\; .\nEsta defini&ccedil\;&atilde\;o visa contri
 buir para a operacionaliza&ccedil\;&atilde\;o do conceito de Promo&ccedil\
 ;&atilde\;o da Sa&uacute\;de definido na Carta de Ottawa (1986)\, como &ld
 quo\;o processo que visa aumentar a capacidade dos indiv&iacute\;duos e da
 s comunidades para controlarem a sua sa&uacute\;de\, no sentido de a melho
 rar&rdquo\;.\nTendo por base estas ideias surge\, no final dos anos 90\, a
  rede Europeia de Escolas Promotoras de Sa&uacute\;de (SHE)&nbsp\; \, sob 
 os ausp&iacute\;cios da Comiss&atilde\;o Europeia\, do Conselho da Europa 
 e do Gabinete Regional da OMS para a Europa. A Escola Promotora da Sa&uacu
 te\;de (EPS) &eacute\;\, nesta perspetiva\, uma escola que fortalece siste
 maticamente a sua capacidade de criar um ambiente saud&aacute\;vel para a 
 aprendizagem.\nA EPS &eacute\;\, assim\, um espa&ccedil\;o em que todos os
  membros da comunidade escolar trabalham\, em conjunto\, para proporcionar
  aos alunos\, professores e funcion&aacute\;rios\, experi&ecirc\;ncias e e
 struturas integradas e positivas que promovam e protejam a sa&uacute\;de .
  Nesta abordagem\, a classifica&ccedil\;&atilde\;o de EPS n&atilde\;o pode
  ser atribu&iacute\;da\, como frequentemente &eacute\; entendido\, em fun&
 ccedil\;&atilde\;o de um projeto com in&iacute\;cio e fim \, do desenvolvi
 mento de atividades espec&iacute\;ficas ou por apresentar caracter&iacute\
 ;sticas f&iacute\;sicas particulares. Uma EPS caracteriza-se por uma abord
 agem integral e plena de toda a escola\, ao n&iacute\;vel da sua cultura\,
  pol&iacute\;tica e pr&aacute\;tica\, o que determina a forma como v&ecirc
 \; o aluno e a comunidade educativa. Segundo a OMS\, uma EPS :\n&nbsp\;(i)
  fomenta a sa&uacute\;de e a aprendizagem com todas as medidas ao seu alca
 nce\;\n&nbsp\;(ii) implica os setores da sa&uacute\;de e da educa&ccedil\;
 &atilde\;o: professores\, alunos\, funcion&aacute\;rios\, pais\, profissio
 nais de sa&uacute\;de e l&iacute\;deres comunit&aacute\;rios esfor&ccedil\
 ;am-se por tornar a escola um lugar saud&aacute\;vel\;\n(iii) proporciona 
 um ambiente seguro e saud&aacute\;vel e\, em parceria com os servi&ccedil\
 ;os de sa&uacute\;de e com a comunidade escolar\, cria oportunidades de pr
 omo&ccedil\;&atilde\;o da sa&uacute\;de mental\, apoio social\, aconselham
 ento\, alimenta&ccedil\;&atilde\;o saud&aacute\;vel e atividade f&iacute\;
 sica\;\n&nbsp\;(iv) implementa pol&iacute\;ticas e pr&aacute\;ticas que re
 speitam o bem-estar e a dignidade do indiv&iacute\;duo\, fornecem m&uacute
 \;ltiplas oportunidades para o sucesso\, reconhecem os esfor&ccedil\;os\, 
 bem como as realiza&ccedil\;&otilde\;es pessoais\;\n(v) esfor&ccedil\;a-se
  por melhorar a sa&uacute\;de dos alunos\, da equipa educativa\, das fam&i
 acute\;lias e membros da comunidade e trabalha com as autoridades locais a
 judando-as a entender de que forma a comunidade pode contribuir para a mel
 horia da sa&uacute\;de e educa&ccedil\;&atilde\;o. Ainda segundo a OMS\, a
  EPS preocupa-se em desenvolver nos alunos e restante comunidade a capacid
 ade de:\n&nbsp\;&bull\; cuidar de si e dos outros\;\n&nbsp\;&bull\; tomar 
 decis&otilde\;es saud&aacute\;veis\, e tendo controlo sobre as circunst&ac
 irc\;ncias da vida\;\n&nbsp\;&bull\; criar condi&ccedil\;&otilde\;es que c
 onduzam &agrave\; sa&uacute\;de (por meio de pol&iacute\;ticas\, servi&cce
 dil\;os\, condi&ccedil\;&otilde\;es f&iacute\;sicas / sociais)\;\n&bull\; 
 desenvolver compet&ecirc\;ncias para a equidade\, a justi&ccedil\;a social
  e o desenvolvimento sustent&aacute\;vel\;\n&bull\; prevenir as principais
  causas de morte\, doen&ccedil\;a e incapacidade: uso do tabaco\, drogas e
  &aacute\;lcool\, HIV / DST\, m&aacute\; nutri&ccedil\;&atilde\;o (sobre e
  subnutri&ccedil\;&atilde\;o)\, sedentarismo\, viol&ecirc\;ncia e les&otil
 de\;es\;\n&bull\; influenciar comportamentos relacionados &agrave\; sa&uac
 ute\;de: conhecimentos\, cren&ccedil\;as\, habilidades\, atitudes\, valore
 s\, de apoio.\nImporta\, pois\, levar estas inten&ccedil\;&otilde\;es e pr
 ogramas at&eacute\; &agrave\;s escolas\, para poderem acessibilizadas &agr
 ave\;s comunidades escolares.\n\n\n\n\nEfeitos\n\n\nDesenvolver e manter u
 ma comunidade escolar democr&aacute\;tica\, inclusiva e participativa\;\n&
 nbsp\;&bull\; gerar nos alunos e pais/encarregados de educa&ccedil\;&atild
 e\;o o sentimento de perten&ccedil\;a na vida da escola\;\n&nbsp\;&bull\; 
 implementar estrat&eacute\;gias de interven&ccedil\;&atilde\;o diversifica
 das\;\n&nbsp\;&bull\; explorar as quest&otilde\;es de sa&uacute\;de no con
 texto da vida dos alunos e da comunidade\;\n&nbsp\;&bull\; disponibilizar 
 oportunidades de desenvolvimento das compet&ecirc\;ncias dos professores e
  do pessoal n&atilde\;o docente\;\n&nbsp\;&bull\; criar ambiente social qu
 e fomente as rela&ccedil\;&otilde\;es abertas e sinceras no seio da comuni
 dade escolar\;\n&nbsp\;&bull\; assegurar um espa&ccedil\;o escolar seguro\
 , respeitador do ambiente e promotor de sa&uacute\;de\;\n&nbsp\;&bull\; pr
 omover rela&ccedil\;&otilde\;es positivas entre a escola e a fam&iacute\;l
 ia\, e a comunidade alargada\;\n&nbsp\;&bull\; desenvolver uma pol&iacute\
 ;tica de escola que propicie as melhores expectativas dos alunos no que di
 z respeito &agrave\;s suas rela&ccedil\;&otilde\;es sociais e ao seu suces
 so escolar.\n\n\n\n\nAvalia&ccedil\;&atilde\;o dos formandos\n\n\nRelat&oa
 cute\;rio individual avaliado e classificado em conformidade com o Regulam
 ento Jur&iacute\;dico da Forma&ccedil\;&atilde\;o Cont&iacute\;nua e demai
 s circulares de enquadramento da avalia&ccedil\;&atilde\;o e classifica&cc
 edil\;&atilde\;o da forma&ccedil\;&atilde\;o cont&iacute\;nua emanadas pel
 as entidades tutelares.\n\n\n\n\n\n{/tabs}\n\n{slider=Lista de Formandos I
 nscritos|blue}\n{module Formandos Inscritos}\n&nbsp\;{slider=Lista de Form
 andos N&atilde\;o Admitidos|red}\n{module MOD_RSEVENTSPRO_Naoadmitidos}\n&
 nbsp\;{slider=Lista Formandos Admitidos|green}\n{module MOD_RSEVENTSPRO_ad
 mitidos}\n{/sliders} https://cfaecentro-oeste.com/index.php/pt/contactos/f
 ormacao/pd/acontecimento/412-10nf2017-promocao-e-educacao-para-a-saude
DTSTART:20170704T080000Z
DTEND:20170704T170000Z
LOCATION:Escola Secundária Rafael Bordalo Pinheiro (Rua César Machado\, 250
 0 Caldas da Rainha\, Portugal)
SUMMARY:10NF2017 - Promoção e Educação para a Saúde
URL:https://cfaecentro-oeste.com/index.php/pt/contactos/formacao/pd/acontec
 imento/412-10nf2017-promocao-e-educacao-para-a-saude
END:VEVENT
END:VCALENDAR
