BEGIN:VCALENDAR
VERSION:2.0
PRODID:-//https://cfaecentro-oeste.com///NONSGML kigkonsult.se iCalcreator 2.10.15//
METHOD:PUBLISH
BEGIN:VEVENT
UID:20260420T020146UTC-6662GTuVZL@https://cfaecentro-oeste.com/
DTSTAMP:20260420T020146Z
DESCRIPTION:Mais informações na plataforma de formação do CFAE\, em&nbsp\;h
 ttps://centro-oeste.cfae.pt/&nbsp\;-&nbsp\;&nbsp\;Plataforma de Formação h
 ttps://cfaecentro-oeste.com/index.php/pt/contactos/formacao/pd/acontecimen
 to/720-170-01-criacao-de-ambientes-de-aprendizagem-inclusivos-e-inovadores
DTSTART:20230920T170000Z
DTEND:20230920T203000Z
LOCATION:Escola Secundária Rafael Bordalo Pinheiro (Rua César Machado\, 250
 0 Caldas da Rainha\, Portugal)
SUMMARY:170-01 - Criação de ambientes de aprendizagem inclusivos e inovador
 es
URL:https://cfaecentro-oeste.com/index.php/pt/contactos/formacao/pd/acontec
 imento/720-170-01-criacao-de-ambientes-de-aprendizagem-inclusivos-e-inovad
 ores
END:VEVENT
END:VCALENDAR
