BEGIN:VCALENDAR
VERSION:2.0
PRODID:-//https://cfaecentro-oeste.com///NONSGML kigkonsult.se iCalcreator 2.10.15//
METHOD:PUBLISH
BEGIN:VEVENT
UID:20260420T001851UTC-0244ESzXhu@https://cfaecentro-oeste.com/
DTSTAMP:20260420T001851Z
DESCRIPTION:&nbsp\;Mais informações na plataforma de formação do CFAE\, em&
 nbsp\;https://centro-oeste.cfae.pt/&nbsp\;-&nbsp\;&nbsp\;Plataforma de For
 mação\n\n\n\n\n\n\n https://cfaecentro-oeste.com/index.php/pt/contactos/fo
 rmacao/pd/acontecimento/731-178-03-para-a-melhoria-das-praticas-de-avaliac
 ao-pedagogica-desenvolvimento-e-concretizacao-dos-projetos-de-intervencao
DTSTART:20230928T170000Z
DTEND:20230928T203000Z
LOCATION:Agrupamento de Escolas Fernão do Pó (Av. Dr. Joaquim de Albuquerqu
 e 45\, 2540 Bombarral\, Portugal)
SUMMARY:178-03 - PARA A MELHORIA DAS PRÁTICAS DE AVALIAÇÃO PEDAGÓGICA: DESE
 NVOLVIMENTO E CONCRETIZAÇÃO DOS PROJETOS DE INTERVENÇÃO
URL:https://cfaecentro-oeste.com/index.php/pt/contactos/formacao/pd/acontec
 imento/731-178-03-para-a-melhoria-das-praticas-de-avaliacao-pedagogica-des
 envolvimento-e-concretizacao-dos-projetos-de-intervencao
END:VEVENT
END:VCALENDAR
